BEGIN:VCALENDAR
VERSION:2.0
PRODID:-//Citizens Commission on Human Rights, CCHR - ECPv6.15.20//NONSGML v1.0//EN
CALSCALE:GREGORIAN
METHOD:PUBLISH
X-ORIGINAL-URL:https://cchrflorida.org
X-WR-CALDESC:Events for Citizens Commission on Human Rights, CCHR
REFRESH-INTERVAL;VALUE=DURATION:PT1H
X-Robots-Tag:noindex
X-PUBLISHED-TTL:PT1H
BEGIN:VTIMEZONE
TZID:America/New_York
BEGIN:DAYLIGHT
TZOFFSETFROM:-0500
TZOFFSETTO:-0400
TZNAME:EDT
DTSTART:20190310T070000
END:DAYLIGHT
BEGIN:STANDARD
TZOFFSETFROM:-0400
TZOFFSETTO:-0500
TZNAME:EST
DTSTART:20191103T060000
END:STANDARD
BEGIN:DAYLIGHT
TZOFFSETFROM:-0500
TZOFFSETTO:-0400
TZNAME:EDT
DTSTART:20200308T070000
END:DAYLIGHT
BEGIN:STANDARD
TZOFFSETFROM:-0400
TZOFFSETTO:-0500
TZNAME:EST
DTSTART:20201101T060000
END:STANDARD
BEGIN:DAYLIGHT
TZOFFSETFROM:-0500
TZOFFSETTO:-0400
TZNAME:EDT
DTSTART:20210314T070000
END:DAYLIGHT
BEGIN:STANDARD
TZOFFSETFROM:-0400
TZOFFSETTO:-0500
TZNAME:EST
DTSTART:20211107T060000
END:STANDARD
END:VTIMEZONE
BEGIN:VEVENT
DTSTART;TZID=America/New_York:20200801T170000
DTEND;TZID=America/New_York:20200801T200000
DTSTAMP:20260426T003152
CREATED:20191229T013219Z
LAST-MODIFIED:20191229T183602Z
UID:7569-1596301200-1596312000@cchrflorida.org
SUMMARY:5th Annual Purple Heart Day Banquet
DESCRIPTION:Purple Heart Day is an observance that commemorates the creation of the Purple Heart Medal in 1782. The purple heart medal is awarded to those who were wounded or killed while serving the US military. \nPlease join us in commemorating the courage and sacrifice of Purple Heart awardees and their families and hear from special guest speakers about what can be done to protect and empower our nation’s heroes. \nComplimentary dinner & valet parking.
URL:https://cchrflorida.org/event/5th-annual-purple-heart-day-banquet/
LOCATION:Fort Harrison\, 210 S. Fort Harrison Ave\, Clearwater\, FL\, 33756\, United States
CATEGORIES:Event
ATTACH;FMTTYPE=image/jpeg:https://cchrflorida.org/wp-content/uploads/2019/05/20180804-FH-CCHR-PURPLE-HEART-DAY-BANQUET-_JJM2713-1-scaled.jpg
ORGANIZER;CN="Samuel Guillard":MAILTO:execdir@cchrflorida.org
END:VEVENT
END:VCALENDAR