BEGIN:VCALENDAR
VERSION:2.0
PRODID:-//Citizens Commission on Human Rights, CCHR - ECPv6.15.20//NONSGML v1.0//EN
CALSCALE:GREGORIAN
METHOD:PUBLISH
X-ORIGINAL-URL:https://cchrflorida.org
X-WR-CALDESC:Events for Citizens Commission on Human Rights, CCHR
REFRESH-INTERVAL;VALUE=DURATION:PT1H
X-Robots-Tag:noindex
X-PUBLISHED-TTL:PT1H
BEGIN:VTIMEZONE
TZID:America/New_York
BEGIN:DAYLIGHT
TZOFFSETFROM:-0500
TZOFFSETTO:-0400
TZNAME:EDT
DTSTART:20190310T070000
END:DAYLIGHT
BEGIN:STANDARD
TZOFFSETFROM:-0400
TZOFFSETTO:-0500
TZNAME:EST
DTSTART:20191103T060000
END:STANDARD
BEGIN:DAYLIGHT
TZOFFSETFROM:-0500
TZOFFSETTO:-0400
TZNAME:EDT
DTSTART:20200308T070000
END:DAYLIGHT
BEGIN:STANDARD
TZOFFSETFROM:-0400
TZOFFSETTO:-0500
TZNAME:EST
DTSTART:20201101T060000
END:STANDARD
BEGIN:DAYLIGHT
TZOFFSETFROM:-0500
TZOFFSETTO:-0400
TZNAME:EDT
DTSTART:20210314T070000
END:DAYLIGHT
BEGIN:STANDARD
TZOFFSETFROM:-0400
TZOFFSETTO:-0500
TZNAME:EST
DTSTART:20211107T060000
END:STANDARD
END:VTIMEZONE
BEGIN:VEVENT
DTSTART;TZID=America/New_York:20201107T113000
DTEND;TZID=America/New_York:20201107T123000
DTSTAMP:20260425T212056
CREATED:20201020T002434Z
LAST-MODIFIED:20201020T002434Z
UID:10460-1604748600-1604752200@cchrflorida.org
SUMMARY:The Baker Act - Online Conference
DESCRIPTION:Free Webinar on the Florida Baker Act. Hear from a law expert. Includes Continuing Education Credit for mental health professionals. \nAbout this Event \nJoin us for a complimentary Zoom Webinar. \nThe Baker Act in Florida allows a child\, an adult or the elderly to be involuntarily sent for a psychiatric examination. \nThis course is designed to provide mental health providers and interested citizens with a thorough understanding of the Florida Mental Health Act (Baker Act) including\, its history\, its use\, impact on human rights and actions to take while protecting vulnerable persons and their rights. \nSpecific Leaning Objectives: \n1. Participants will understand the context and intentions of the Baker Act. \n2. Participants will be able to describe the process of involuntary assessment and treatment. \n3. Participants will be able to identify the basic human rights impacted by the Baker Act and its unintended consequences. \n4. Participants will be provided with action steps to protect themselves\, their children\, and all those impacted by the Baker Act. \nOur guest speaker: \nCarmen Miller\, private attorney practicing in the Tampa Bay area. She is an expert on the Baker Act and served for over 8 years as Asst. Public Defender for 13th Judicial District\, Hillsborough County. \nHost: \nCitizens Commission on Human Rights of Florida is a mental health watchdog advocating for mental health rights patients for more than 50 years. \nSaturday\, November 7th\, 2020 at 11:30 AM – 12:30 PM \nACCREDIATION \nThis webinar has been planed and implement in accordance with the accreditation requirements and policies of the Florida Board Of Clinical Social Work\, Marriage And Family Therapy And Mental Health Counseling. \nCREDIT DESIGNATION \nThis live activity is designated for maximum of three (3.0) CME Credits for: \n· Licensed Mental Health Counselor \n· Licensed Clinical Social Worker \n· Licensed Marriage Family Therapist \n· Certified Master Social Worker \nSubmit your questions to: center@cchrflorida.org
URL:https://cchrflorida.org/event/the-baker-act-online-conference/
LOCATION:FL
CATEGORIES:Event,Seminar,Workshop
ATTACH;FMTTYPE=image/jpeg:https://cchrflorida.org/wp-content/uploads/2020/10/20201018-Baker-Act-Webinar-November-4.jpg
ORGANIZER;CN="Samuel Guillard":MAILTO:execdir@cchrflorida.org
END:VEVENT
END:VCALENDAR